BEGIN:VCALENDAR
VERSION:2.0
PRODID:-//Trawler-Calendar-Tool 0.2
METHOD:PUBLISH
BEGIN:VTIMEZONE
TZID:Europe/Berlin
BEGIN:STANDARD
TZNAME:CET
DTSTART:20100101T010000
RRULE:FREQ=YEARLY;BYDAY=-1SU;BYMONTH=10
TZOFFSETFROM:+0200
TZOFFSETTO:+0100
END:STANDARD
BEGIN:DAYLIGHT
TZNAME:CEST
DTSTART:20100101T010000
RRULE:FREQ=YEARLY;BYDAY=-1SU;BYMONTH=3
TZOFFSETFROM:+0100
TZOFFSETTO:+0200
END:DAYLIGHT
END:VTIMEZONE
X-WR-TIMEZONE:Europe/Berlin
X-ORIGINAL-URL:https://www.spd-jestetten.de/termine/
BEGIN:VEVENT
DTSTART;TZID=Europe/Berlin:20260428T190000
DTEND;TZID=Europe/Berlin:20260428T213000
LOCATION:Jestetten\, Café Central
SUMMARY:JAHRESHAUPTVERSAMMLUNG
DESCRIPTION:Liebe Genossinnen und Genossen\, liebe Freundinnen und
   Freunde\,
 
 zur diesjährigen Hauptversammlung
   möchten wir alle Freunde\, (kommunal-)politisch
   Interessierte\, Gönner und Förderer herzlich
   einladen.
 
 Die Jahreshauptversammlung findet statt
   am:
 
 Dienstag\, 28.April 2026 / 19:00 Uhr / Café
   Central\, Jestetten
 
 Unsere SPD-Bundestagsabgeordnete
   und Parlamentarische Staatssekretärin Rita Schwarzelühr-Sutter
   wird unser Gast sein und unter anderem Stellung zur aktuellen Politik
   nehmen.
 
 Die Tagesordnung umfasst folgende
   Punkte:
 1. Begrüßung und Ansprache von Rita
   Schwarzelühr-Sutter
 2. Berichte des Vorsitzenden / Bericht
   Stephan Bierwagen\, Wichtiges aus dem Gemeinderat / Bericht der
   Kassiererin
 3. Aussprache
 4. Entlastung
   des Vorstands
 5. Wahlen
 
 1.Vorsitzende/r
 2.Vorsitzende/r
 Kassier/erin
 Kassenprüfer/innen
 Schriftführer/in
 Beisitzer/innen
 
 6.
   Wünsche / Anträge
 7. Sonstiges
 
 Wir
   freuen uns auf eine rege Teilnahme.
 
 Es grüßt
   herzlich im Namen des Vorstandes
 Frank Hartmann
   (1.Vorsitzender)
X-ALT-DESC;FMTTYPE=text/plain:Liebe Genossinnen und Genossen\, liebe Freundinnen und
   Freunde\,
 
 zur diesj&auml\;hrigen Hauptversammlung
   m&ouml\;chten wir alle Freunde\, (kommunal-)politisch
   Interessierte\, G&ouml\;nner und F&ouml\;rderer herzlich
   einladen.
 
 Die Jahreshauptversammlung findet statt
   am:
 
 Dienstag\, 28.April 2026 / 19:00 Uhr / Caf&eacute\;
   Central\, Jestetten
 
 Unsere SPD-Bundestagsabgeordnete
   und Parlamentarische Staatssekret&auml\;rin Rita Schwarzel&uuml\;hr-Sutter
   wird unser Gast sein und unter anderem Stellung zur aktuellen Politik
   nehmen.
 
 Die Tagesordnung umfasst folgende
   Punkte:
 1. Begr&uuml\;&szlig\;ung und Ansprache von Rita
   Schwarzel&uuml\;hr-Sutter
 2. Berichte des Vorsitzenden / Bericht
   Stephan Bierwagen\, Wichtiges aus dem Gemeinderat / Bericht der
   Kassiererin
 3. Aussprache
 4. Entlastung
   des Vorstands
 5. Wahlen
 
 1.Vorsitzende/r
 2.Vorsitzende/r
 Kassier/erin
 Kassenpr&uuml\;fer/innen
 Schriftf&uuml\;hrer/in
 Beisitzer/innen
 
 6.
   W&uuml\;nsche / Antr&auml\;ge
 7. Sonstiges
 
 Wir
   freuen uns auf eine rege Teilnahme.
 
 Es gr&uuml\;&szlig\;t
   herzlich im Namen des Vorstandes
 Frank Hartmann
   (1.Vorsitzender)
PRIORITY:5
UID:wscms192882-jestettn-0bcd8cd1d351cea3fb74e3bf447da139
URL:https://www.spd-jestetten.de/calendar192882.ics
END:VEVENT
END:VCALENDAR